BEGIN:VCALENDAR
VERSION:2.0
PRODID:-//THE TEMPLE a Paul Mitchell Partner School | Frederick | Annapolis - ECPv6.15.19//NONSGML v1.0//EN
CALSCALE:GREGORIAN
METHOD:PUBLISH
X-ORIGINAL-URL:https://pmthetemple.edu
X-WR-CALDESC:Events for THE TEMPLE a Paul Mitchell Partner School | Frederick | Annapolis
REFRESH-INTERVAL;VALUE=DURATION:PT1H
X-Robots-Tag:noindex
X-PUBLISHED-TTL:PT1H
BEGIN:VTIMEZONE
TZID:America/New_York
BEGIN:DAYLIGHT
TZOFFSETFROM:-0500
TZOFFSETTO:-0400
TZNAME:EDT
DTSTART:20250309T070000
END:DAYLIGHT
BEGIN:STANDARD
TZOFFSETFROM:-0400
TZOFFSETTO:-0500
TZNAME:EST
DTSTART:20251102T060000
END:STANDARD
BEGIN:DAYLIGHT
TZOFFSETFROM:-0500
TZOFFSETTO:-0400
TZNAME:EDT
DTSTART:20260308T070000
END:DAYLIGHT
BEGIN:STANDARD
TZOFFSETFROM:-0400
TZOFFSETTO:-0500
TZNAME:EST
DTSTART:20261101T060000
END:STANDARD
BEGIN:DAYLIGHT
TZOFFSETFROM:-0500
TZOFFSETTO:-0400
TZNAME:EDT
DTSTART:20270314T070000
END:DAYLIGHT
BEGIN:STANDARD
TZOFFSETFROM:-0400
TZOFFSETTO:-0500
TZNAME:EST
DTSTART:20271107T060000
END:STANDARD
END:VTIMEZONE
BEGIN:VEVENT
DTSTART;TZID=America/New_York:20260608T093000
DTEND;TZID=America/New_York:20260608T113000
DTSTAMP:20260421T063256
CREATED:20260319T165131Z
LAST-MODIFIED:20260319T165245Z
UID:10001249-1780911000-1780918200@pmthetemple.edu
SUMMARY:Permanent Wave
DESCRIPTION:This is an on-size/in-person\, two hours\, continuing education course hosted by The TEMPLE Annapolis. Register below.
URL:https://pmthetemple.edu/event/permanent-wave-06-08-2026/
CATEGORIES:Annapolis,Continuing Education
ATTACH;FMTTYPE=image/jpeg:https://pmthetemple.edu/wp-content/uploads/AdobeStock_36456387.jpg
ORGANIZER;CN="TEMPLE Annapolis CE":MAILTO:AnnapCE@templeannapolis.com
END:VEVENT
BEGIN:VEVENT
DTSTART;TZID=America/New_York:20260608T123000
DTEND;TZID=America/New_York:20260608T143000
DTSTAMP:20260421T063256
CREATED:20260319T165613Z
LAST-MODIFIED:20260319T165613Z
UID:10001251-1780921800-1780929000@pmthetemple.edu
SUMMARY:Shampoo Service
DESCRIPTION:This is an on-site/in-person\, two hours\, continuing education course hosted by The TEMPLE Annapolis. Register below.
URL:https://pmthetemple.edu/event/shampoo-service-06-08-2026/
CATEGORIES:Annapolis,Continuing Education
ATTACH;FMTTYPE=image/jpeg:https://pmthetemple.edu/wp-content/uploads/guest-services-bg.jpg
ORGANIZER;CN="TEMPLE Annapolis CE":MAILTO:AnnapCE@templeannapolis.com
END:VEVENT
BEGIN:VEVENT
DTSTART;VALUE=DATE:20260619
DTEND;VALUE=DATE:20260620
DTSTAMP:20260421T063256
CREATED:20251103T162519Z
LAST-MODIFIED:20251103T162519Z
UID:10001212-1781827200-1781913599@pmthetemple.edu
SUMMARY:OBSERVANCE OF JUNETEENTH – CLOSED
DESCRIPTION:
URL:https://pmthetemple.edu/event/observance-of-juneteenth-closed/
CATEGORIES:Annapolis,Closings,Frederick
END:VEVENT
BEGIN:VEVENT
DTSTART;TZID=America/New_York:20260624T090000
DTEND;TZID=America/New_York:20260624T100000
DTSTAMP:20260421T063256
CREATED:20260319T165743Z
LAST-MODIFIED:20260319T171439Z
UID:10001252-1782291600-1782295200@pmthetemple.edu
SUMMARY:Hair Structure
DESCRIPTION:This is a virtual\, one hour\, continuing education course hosted by The TEMPLE Annapolis on Zoom*. Register below.
URL:https://pmthetemple.edu/event/hair-structure-06-24-2026/
CATEGORIES:Annapolis,Continuing Education
ATTACH;FMTTYPE=image/jpeg:https://pmthetemple.edu/wp-content/uploads/AdobeStock_211642298.jpg
ORGANIZER;CN="TEMPLE Annapolis CE":MAILTO:AnnapCE@templeannapolis.com
END:VEVENT
END:VCALENDAR