BEGIN:VCALENDAR
VERSION:2.0
PRODID:-//THE TEMPLE a Paul Mitchell Partner School | Frederick | Annapolis - ECPv6.15.19//NONSGML v1.0//EN
CALSCALE:GREGORIAN
METHOD:PUBLISH
X-WR-CALNAME:THE TEMPLE a Paul Mitchell Partner School | Frederick | Annapolis
X-ORIGINAL-URL:https://pmthetemple.edu
X-WR-CALDESC:Events for THE TEMPLE a Paul Mitchell Partner School | Frederick | Annapolis
REFRESH-INTERVAL;VALUE=DURATION:PT1H
X-Robots-Tag:noindex
X-PUBLISHED-TTL:PT1H
BEGIN:VTIMEZONE
TZID:America/New_York
BEGIN:DAYLIGHT
TZOFFSETFROM:-0500
TZOFFSETTO:-0400
TZNAME:EDT
DTSTART:20220313T070000
END:DAYLIGHT
BEGIN:STANDARD
TZOFFSETFROM:-0400
TZOFFSETTO:-0500
TZNAME:EST
DTSTART:20221106T060000
END:STANDARD
BEGIN:DAYLIGHT
TZOFFSETFROM:-0500
TZOFFSETTO:-0400
TZNAME:EDT
DTSTART:20230312T070000
END:DAYLIGHT
BEGIN:STANDARD
TZOFFSETFROM:-0400
TZOFFSETTO:-0500
TZNAME:EST
DTSTART:20231105T060000
END:STANDARD
BEGIN:DAYLIGHT
TZOFFSETFROM:-0500
TZOFFSETTO:-0400
TZNAME:EDT
DTSTART:20240310T070000
END:DAYLIGHT
BEGIN:STANDARD
TZOFFSETFROM:-0400
TZOFFSETTO:-0500
TZNAME:EST
DTSTART:20241103T060000
END:STANDARD
BEGIN:DAYLIGHT
TZOFFSETFROM:-0500
TZOFFSETTO:-0400
TZNAME:EDT
DTSTART:20250309T070000
END:DAYLIGHT
BEGIN:STANDARD
TZOFFSETFROM:-0400
TZOFFSETTO:-0500
TZNAME:EST
DTSTART:20251102T060000
END:STANDARD
END:VTIMEZONE
BEGIN:VEVENT
DTSTART;TZID=America/New_York:20240415T093000
DTEND;TZID=America/New_York:20240415T140000
DTSTAMP:20260419T091216
CREATED:20240318T191050Z
LAST-MODIFIED:20240318T191108Z
UID:10001127-1713173400-1713189600@pmthetemple.edu
SUMMARY:Guest Artist Ira Sage
DESCRIPTION:@irapopesage \nRSVP Sharon@pmthetemple.com for more info
URL:https://pmthetemple.edu/event/guest-artist-ira-sage/
CATEGORIES:Frederick,Guest Artists
END:VEVENT
BEGIN:VEVENT
DTSTART;VALUE=DATE:20240326
DTEND;VALUE=DATE:20240327
DTSTAMP:20260419T091216
CREATED:20240318T190855Z
LAST-MODIFIED:20240318T190855Z
UID:10001125-1711411200-1711497599@pmthetemple.edu
SUMMARY:JPMS Guest Artist - New Clean Beauty Products & Color Conditioner Roll Out
DESCRIPTION:
URL:https://pmthetemple.edu/event/jpms-guest-artist-new-clean-beauty-products-color-conditioner-roll-out/
CATEGORIES:Frederick,Guest Artists
END:VEVENT
BEGIN:VEVENT
DTSTART;VALUE=DATE:20240320
DTEND;VALUE=DATE:20240321
DTSTAMP:20260419T091216
CREATED:20240318T190007Z
LAST-MODIFIED:20240319T152827Z
UID:10001116-1710892800-1710979199@pmthetemple.edu
SUMMARY:Barber Johnee Livingston Guest Artist
DESCRIPTION:@jcashthehairtech \nDay & Night Program
URL:https://pmthetemple.edu/event/barber-johnee-livingston-guest-artist/
CATEGORIES:Annapolis,Guest Artists
END:VEVENT
BEGIN:VEVENT
DTSTART;VALUE=DATE:20240319
DTEND;VALUE=DATE:20240320
DTSTAMP:20260419T091216
CREATED:20240318T190817Z
LAST-MODIFIED:20240318T190832Z
UID:10001124-1710806400-1710892799@pmthetemple.edu
SUMMARY:Barber Guest Artist Johnee Livingston
DESCRIPTION:@jcashthehairtech \nDay School & Night School Program
URL:https://pmthetemple.edu/event/barber-guest-artist-johnee-livingston/
CATEGORIES:Frederick,Guest Artists
END:VEVENT
BEGIN:VEVENT
DTSTART;TZID=America/New_York:20231106T170000
DTEND;TZID=America/New_York:20231106T183000
DTSTAMP:20260419T091216
CREATED:20230612T225014Z
LAST-MODIFIED:20230612T225014Z
UID:10001094-1699290000-1699295400@pmthetemple.edu
SUMMARY:GUEST ARTIST:  JPMS National Team New Product Review
DESCRIPTION:
URL:https://pmthetemple.edu/event/guest-artist-jpms-national-team-new-product-review/2023-11-06/2/
CATEGORIES:Annapolis,Guest Artists
END:VEVENT
BEGIN:VEVENT
DTSTART;TZID=America/New_York:20231106T150000
DTEND;TZID=America/New_York:20231106T163000
DTSTAMP:20260419T091216
CREATED:20230612T225014Z
LAST-MODIFIED:20230612T225014Z
UID:10001093-1699282800-1699288200@pmthetemple.edu
SUMMARY:GUEST ARTIST:  JPMS National Team New Product Review
DESCRIPTION:
URL:https://pmthetemple.edu/event/guest-artist-jpms-national-team-new-product-review/2023-11-06/1/
CATEGORIES:Annapolis,Guest Artists
END:VEVENT
BEGIN:VEVENT
DTSTART;TZID=America/New_York:20231012T170000
DTEND;TZID=America/New_York:20231012T190000
DTSTAMP:20260419T091216
CREATED:20230612T224642Z
LAST-MODIFIED:20230612T224706Z
UID:10001091-1697130000-1697137200@pmthetemple.edu
SUMMARY:GUEST ARTIST:  Yvonne Macinnis Makeup Specialist
DESCRIPTION:@yvonnetheartist
URL:https://pmthetemple.edu/event/guest-artist-yvonne-macinnis-makeup-specialist-2/2023-10-12/2/
CATEGORIES:Annapolis,Guest Artists
END:VEVENT
BEGIN:VEVENT
DTSTART;TZID=America/New_York:20231012T143000
DTEND;TZID=America/New_York:20231012T163000
DTSTAMP:20260419T091216
CREATED:20230612T224642Z
LAST-MODIFIED:20230612T224706Z
UID:10001090-1697121000-1697128200@pmthetemple.edu
SUMMARY:GUEST ARTIST:  Yvonne Macinnis Makeup Specialist
DESCRIPTION:@yvonnetheartist
URL:https://pmthetemple.edu/event/guest-artist-yvonne-macinnis-makeup-specialist-2/2023-10-12/1/
CATEGORIES:Annapolis,Guest Artists
END:VEVENT
BEGIN:VEVENT
DTSTART;TZID=America/New_York:20231011T170000
DTEND;TZID=America/New_York:20231011T190000
DTSTAMP:20260419T091216
CREATED:20230612T224603Z
LAST-MODIFIED:20230612T224750Z
UID:10001089-1697043600-1697050800@pmthetemple.edu
SUMMARY:GUEST ARTIST:  Yvonne Macinnis Makeup Specialist
DESCRIPTION:@yvonnetheartist
URL:https://pmthetemple.edu/event/guest-artist-yvonne-macinnis-makeup-specialist/2023-10-11/2/
CATEGORIES:Frederick,Guest Artists
END:VEVENT
BEGIN:VEVENT
DTSTART;TZID=America/New_York:20231011T143000
DTEND;TZID=America/New_York:20231011T163000
DTSTAMP:20260419T091216
CREATED:20230612T224603Z
LAST-MODIFIED:20230612T224750Z
UID:10001088-1697034600-1697041800@pmthetemple.edu
SUMMARY:GUEST ARTIST:  Yvonne Macinnis Makeup Specialist
DESCRIPTION:@yvonnetheartist
URL:https://pmthetemple.edu/event/guest-artist-yvonne-macinnis-makeup-specialist/2023-10-11/1/
CATEGORIES:Frederick,Guest Artists
END:VEVENT
BEGIN:VEVENT
DTSTART;TZID=America/New_York:20230823T170000
DTEND;TZID=America/New_York:20230823T190000
DTSTAMP:20260419T091216
CREATED:20230612T224400Z
LAST-MODIFIED:20230612T224400Z
UID:10001086-1692810000-1692817200@pmthetemple.edu
SUMMARY:GUEST ARTIST:  Noogie Thai
DESCRIPTION:
URL:https://pmthetemple.edu/event/guest-artist-noogie-thai-2/2023-08-23/2/
CATEGORIES:Annapolis,Guest Artists
END:VEVENT
BEGIN:VEVENT
DTSTART;TZID=America/New_York:20230823T143000
DTEND;TZID=America/New_York:20230823T163000
DTSTAMP:20260419T091216
CREATED:20230612T224400Z
LAST-MODIFIED:20230612T224400Z
UID:10001085-1692801000-1692808200@pmthetemple.edu
SUMMARY:GUEST ARTIST:  Noogie Thai
DESCRIPTION:
URL:https://pmthetemple.edu/event/guest-artist-noogie-thai-2/2023-08-23/1/
CATEGORIES:Annapolis,Guest Artists
END:VEVENT
BEGIN:VEVENT
DTSTART;TZID=America/New_York:20230823T100000
DTEND;TZID=America/New_York:20230823T120000
DTSTAMP:20260419T091216
CREATED:20230612T224323Z
LAST-MODIFIED:20230612T224323Z
UID:10001084-1692784800-1692792000@pmthetemple.edu
SUMMARY:GUEST ARTIST:  Noogie Thai w/ LYNX Special Guests
DESCRIPTION:
URL:https://pmthetemple.edu/event/guest-artist-noogie-thai-w-lynx-special-guests/
CATEGORIES:Frederick,Guest Artists
END:VEVENT
BEGIN:VEVENT
DTSTART;TZID=America/New_York:20230822T170000
DTEND;TZID=America/New_York:20230822T190000
DTSTAMP:20260419T091216
CREATED:20230612T224217Z
LAST-MODIFIED:20230612T224217Z
UID:10001083-1692723600-1692730800@pmthetemple.edu
SUMMARY:GUEST ARTIST:  Noogie Thai
DESCRIPTION:
URL:https://pmthetemple.edu/event/guest-artist-noogie-thai/
CATEGORIES:Frederick,Guest Artists
END:VEVENT
BEGIN:VEVENT
DTSTART;TZID=America/New_York:20230816T170000
DTEND;TZID=America/New_York:20230816T190000
DTSTAMP:20260419T091216
CREATED:20230612T224029Z
LAST-MODIFIED:20230612T224029Z
UID:10001082-1692205200-1692212400@pmthetemple.edu
SUMMARY:GUEST ARTIST:  Sports Clips
DESCRIPTION:
URL:https://pmthetemple.edu/event/guest-artist-sports-clips-3/2023-08-16/2/
CATEGORIES:Frederick,Guest Artists
END:VEVENT
BEGIN:VEVENT
DTSTART;TZID=America/New_York:20230816T143000
DTEND;TZID=America/New_York:20230816T163000
DTSTAMP:20260419T091216
CREATED:20230612T224029Z
LAST-MODIFIED:20230612T224029Z
UID:10001081-1692196200-1692203400@pmthetemple.edu
SUMMARY:GUEST ARTIST:  Sports Clips
DESCRIPTION:
URL:https://pmthetemple.edu/event/guest-artist-sports-clips-3/2023-08-16/1/
CATEGORIES:Frederick,Guest Artists
END:VEVENT
BEGIN:VEVENT
DTSTART;TZID=America/New_York:20230809T170000
DTEND;TZID=America/New_York:20230809T190000
DTSTAMP:20260419T091216
CREATED:20230612T223832Z
LAST-MODIFIED:20230612T223832Z
UID:10001078-1691600400-1691607600@pmthetemple.edu
SUMMARY:GUEST ARTIST:  Dermalogica
DESCRIPTION:
URL:https://pmthetemple.edu/event/guest-artist-dermalogica/2023-08-09/2/
CATEGORIES:Annapolis,Guest Artists
END:VEVENT
BEGIN:VEVENT
DTSTART;TZID=America/New_York:20230809T143000
DTEND;TZID=America/New_York:20230809T163000
DTSTAMP:20260419T091216
CREATED:20230612T223832Z
LAST-MODIFIED:20230612T223832Z
UID:10001077-1691591400-1691598600@pmthetemple.edu
SUMMARY:GUEST ARTIST:  Dermalogica
DESCRIPTION:
URL:https://pmthetemple.edu/event/guest-artist-dermalogica/2023-08-09/1/
CATEGORIES:Annapolis,Guest Artists
END:VEVENT
BEGIN:VEVENT
DTSTART;TZID=America/New_York:20230808T170000
DTEND;TZID=America/New_York:20230808T190000
DTSTAMP:20260419T091216
CREATED:20230612T223918Z
LAST-MODIFIED:20230612T223918Z
UID:10001080-1691514000-1691521200@pmthetemple.edu
SUMMARY:GUEST ARTIST:  Dermalogica
DESCRIPTION:
URL:https://pmthetemple.edu/event/guest-artist-dermalogica-2/2023-08-08/2/
CATEGORIES:Frederick,Guest Artists
END:VEVENT
BEGIN:VEVENT
DTSTART;TZID=America/New_York:20230808T170000
DTEND;TZID=America/New_York:20230808T190000
DTSTAMP:20260419T091216
CREATED:20230612T223620Z
LAST-MODIFIED:20230612T223620Z
UID:10001074-1691514000-1691521200@pmthetemple.edu
SUMMARY:GUEST ARTIST:  Melissa Yamaguchi
DESCRIPTION:@melissayamaguchi
URL:https://pmthetemple.edu/event/guest-artist-melissa-yamaguchi/2023-08-08/2/
CATEGORIES:Annapolis,Guest Artists
END:VEVENT
BEGIN:VEVENT
DTSTART;TZID=America/New_York:20230808T143000
DTEND;TZID=America/New_York:20230808T163000
DTSTAMP:20260419T091216
CREATED:20230612T223918Z
LAST-MODIFIED:20230612T223918Z
UID:10001079-1691505000-1691512200@pmthetemple.edu
SUMMARY:GUEST ARTIST:  Dermalogica
DESCRIPTION:
URL:https://pmthetemple.edu/event/guest-artist-dermalogica-2/2023-08-08/1/
CATEGORIES:Frederick,Guest Artists
END:VEVENT
BEGIN:VEVENT
DTSTART;TZID=America/New_York:20230808T143000
DTEND;TZID=America/New_York:20230808T163000
DTSTAMP:20260419T091216
CREATED:20230612T223620Z
LAST-MODIFIED:20230612T223620Z
UID:10001073-1691505000-1691512200@pmthetemple.edu
SUMMARY:GUEST ARTIST:  Melissa Yamaguchi
DESCRIPTION:@melissayamaguchi
URL:https://pmthetemple.edu/event/guest-artist-melissa-yamaguchi/2023-08-08/1/
CATEGORIES:Annapolis,Guest Artists
END:VEVENT
BEGIN:VEVENT
DTSTART;TZID=America/New_York:20230807T170000
DTEND;TZID=America/New_York:20230807T190000
DTSTAMP:20260419T091216
CREATED:20230612T223715Z
LAST-MODIFIED:20230612T223715Z
UID:10001076-1691427600-1691434800@pmthetemple.edu
SUMMARY:GUEST ARTIST:  Melissa Yamaguchi
DESCRIPTION:@melissayamaguchi
URL:https://pmthetemple.edu/event/guest-artist-melissa-yamaguchi-2/2023-08-07/2/
CATEGORIES:Frederick,Guest Artists
END:VEVENT
BEGIN:VEVENT
DTSTART;TZID=America/New_York:20230807T143000
DTEND;TZID=America/New_York:20230807T163000
DTSTAMP:20260419T091216
CREATED:20230612T223715Z
LAST-MODIFIED:20230612T223715Z
UID:10001075-1691418600-1691425800@pmthetemple.edu
SUMMARY:GUEST ARTIST:  Melissa Yamaguchi
DESCRIPTION:@melissayamaguchi
URL:https://pmthetemple.edu/event/guest-artist-melissa-yamaguchi-2/2023-08-07/1/
CATEGORIES:Frederick,Guest Artists
END:VEVENT
BEGIN:VEVENT
DTSTART;TZID=America/New_York:20230806T080000
DTEND;TZID=America/New_York:20230806T170000
DTSTAMP:20260419T091216
CREATED:20230612T223422Z
LAST-MODIFIED:20230612T223422Z
UID:10001072-1691308800-1691341200@pmthetemple.edu
SUMMARY:FUNDRAISER:  Dulche Lash Class
DESCRIPTION:
URL:https://pmthetemple.edu/event/fundraiser-dulche-lash-class/
CATEGORIES:Annapolis,Frederick,Guest Artists
END:VEVENT
BEGIN:VEVENT
DTSTART;TZID=America/New_York:20230731T170000
DTEND;TZID=America/New_York:20230731T190000
DTSTAMP:20260419T091216
CREATED:20230612T222607Z
LAST-MODIFIED:20230612T222607Z
UID:10001065-1690822800-1690830000@pmthetemple.edu
SUMMARY:GUEST ARTIST:  Sports Clips
DESCRIPTION:
URL:https://pmthetemple.edu/event/guest-artist-sports-clips/2023-07-31/2/
CATEGORIES:Annapolis,Guest Artists
END:VEVENT
BEGIN:VEVENT
DTSTART;TZID=America/New_York:20230731T143000
DTEND;TZID=America/New_York:20230731T163000
DTSTAMP:20260419T091216
CREATED:20230612T222607Z
LAST-MODIFIED:20230612T222607Z
UID:10001064-1690813800-1690821000@pmthetemple.edu
SUMMARY:GUEST ARTIST:  Sports Clips
DESCRIPTION:
URL:https://pmthetemple.edu/event/guest-artist-sports-clips/2023-07-31/1/
CATEGORIES:Annapolis,Guest Artists
END:VEVENT
BEGIN:VEVENT
DTSTART;TZID=America/New_York:20230726T143000
DTEND;TZID=America/New_York:20230726T163000
DTSTAMP:20260419T091216
CREATED:20230612T222746Z
LAST-MODIFIED:20230612T222746Z
UID:10001068-1690381800-1690389000@pmthetemple.edu
SUMMARY:GUEST ARTIST:  Today's Image Salon
DESCRIPTION:
URL:https://pmthetemple.edu/event/guest-artist-todays-image-salon/
CATEGORIES:Frederick,Guest Artists
END:VEVENT
BEGIN:VEVENT
DTSTART;TZID=America/New_York:20230724T170000
DTEND;TZID=America/New_York:20230724T183000
DTSTAMP:20260419T091216
CREATED:20230612T230009Z
LAST-MODIFIED:20230612T230009Z
UID:10001098-1690218000-1690223400@pmthetemple.edu
SUMMARY:EVENT:  GAMMA Barber Tools Education
DESCRIPTION:
URL:https://pmthetemple.edu/event/event-gamma-barber-tools-education-2/2023-07-24/2/
CATEGORIES:Frederick,Guest Artists
END:VEVENT
BEGIN:VEVENT
DTSTART;TZID=America/New_York:20230724T150000
DTEND;TZID=America/New_York:20230724T163000
DTSTAMP:20260419T091216
CREATED:20230612T230009Z
LAST-MODIFIED:20230612T230009Z
UID:10001097-1690210800-1690216200@pmthetemple.edu
SUMMARY:EVENT:  GAMMA Barber Tools Education
DESCRIPTION:
URL:https://pmthetemple.edu/event/event-gamma-barber-tools-education-2/2023-07-24/1/
CATEGORIES:Frederick,Guest Artists
END:VEVENT
END:VCALENDAR