BEGIN:VCALENDAR
VERSION:2.0
PRODID:-//THE TEMPLE a Paul Mitchell Partner School | Frederick | Annapolis - ECPv6.15.19//NONSGML v1.0//EN
CALSCALE:GREGORIAN
METHOD:PUBLISH
X-ORIGINAL-URL:https://pmthetemple.edu
X-WR-CALDESC:Events for THE TEMPLE a Paul Mitchell Partner School | Frederick | Annapolis
REFRESH-INTERVAL;VALUE=DURATION:PT1H
X-Robots-Tag:noindex
X-PUBLISHED-TTL:PT1H
BEGIN:VTIMEZONE
TZID:America/New_York
BEGIN:DAYLIGHT
TZOFFSETFROM:-0500
TZOFFSETTO:-0400
TZNAME:EDT
DTSTART:20250309T070000
END:DAYLIGHT
BEGIN:STANDARD
TZOFFSETFROM:-0400
TZOFFSETTO:-0500
TZNAME:EST
DTSTART:20251102T060000
END:STANDARD
BEGIN:DAYLIGHT
TZOFFSETFROM:-0500
TZOFFSETTO:-0400
TZNAME:EDT
DTSTART:20260308T070000
END:DAYLIGHT
BEGIN:STANDARD
TZOFFSETFROM:-0400
TZOFFSETTO:-0500
TZNAME:EST
DTSTART:20261101T060000
END:STANDARD
BEGIN:DAYLIGHT
TZOFFSETFROM:-0500
TZOFFSETTO:-0400
TZNAME:EDT
DTSTART:20270314T070000
END:DAYLIGHT
BEGIN:STANDARD
TZOFFSETFROM:-0400
TZOFFSETTO:-0500
TZNAME:EST
DTSTART:20271107T060000
END:STANDARD
END:VTIMEZONE
BEGIN:VEVENT
DTSTART;VALUE=DATE:20260101
DTEND;VALUE=DATE:20260102
DTSTAMP:20260422T083513
CREATED:20251103T162305Z
LAST-MODIFIED:20251103T162305Z
UID:10001207-1767225600-1767311999@pmthetemple.edu
SUMMARY:NEW YEAR’S – CLOSED
DESCRIPTION:
URL:https://pmthetemple.edu/event/new-years-closed/
CATEGORIES:Annapolis,Closings,Frederick
END:VEVENT
BEGIN:VEVENT
DTSTART;VALUE=DATE:20260119
DTEND;VALUE=DATE:20260120
DTSTAMP:20260422T083513
CREATED:20251103T162329Z
LAST-MODIFIED:20251103T162329Z
UID:10001208-1768780800-1768867199@pmthetemple.edu
SUMMARY:MARTIN LUTHER KING JR. DAY – CLOSED
DESCRIPTION:
URL:https://pmthetemple.edu/event/martin-luther-king-jr-day-closed-2/
CATEGORIES:Annapolis,Closings,Frederick
END:VEVENT
BEGIN:VEVENT
DTSTART;TZID=America/New_York:20260210T173000
DTEND;TZID=America/New_York:20260210T190000
DTSTAMP:20260422T083513
CREATED:20251103T163340Z
LAST-MODIFIED:20251103T163340Z
UID:10001226-1770744600-1770750000@pmthetemple.edu
SUMMARY:Open House (Annapolis)
DESCRIPTION:
URL:https://pmthetemple.edu/event/open-house-annapolis/
CATEGORIES:Annapolis
END:VEVENT
BEGIN:VEVENT
DTSTART;TZID=America/New_York:20260212T173000
DTEND;TZID=America/New_York:20260212T190000
DTSTAMP:20260422T083513
CREATED:20251103T163419Z
LAST-MODIFIED:20251103T163419Z
UID:10001227-1770917400-1770922800@pmthetemple.edu
SUMMARY:Open House (Frederick)
DESCRIPTION:
URL:https://pmthetemple.edu/event/open-house-frederick/
CATEGORIES:Frederick
END:VEVENT
BEGIN:VEVENT
DTSTART;VALUE=DATE:20260218
DTEND;VALUE=DATE:20260219
DTSTAMP:20260422T083513
CREATED:20251103T162838Z
LAST-MODIFIED:20251103T164212Z
UID:10001218-1771372800-1771459199@pmthetemple.edu
SUMMARY:TEAM TRAINING – NO CLASSES FOR FUTURE PROFESSIONALS (WED)
DESCRIPTION:
URL:https://pmthetemple.edu/event/team-training-no-classes-for-future-professionals-wed/
CATEGORIES:Annapolis,Team Training
END:VEVENT
BEGIN:VEVENT
DTSTART;VALUE=DATE:20260219
DTEND;VALUE=DATE:20260220
DTSTAMP:20260422T083513
CREATED:20251103T162955Z
LAST-MODIFIED:20251103T162955Z
UID:10001221-1771459200-1771545599@pmthetemple.edu
SUMMARY:TEAM TRAINING – NO CLASSES FOR FUTURE PROFESSIONALS (THURSDAY)
DESCRIPTION:
URL:https://pmthetemple.edu/event/team-training-no-classes-for-future-professionals-thursday-2/
CATEGORIES:Frederick,Team Training
END:VEVENT
BEGIN:VEVENT
DTSTART;VALUE=DATE:20260403
DTEND;VALUE=DATE:20260407
DTSTAMP:20260422T083513
CREATED:20251103T162400Z
LAST-MODIFIED:20251103T162400Z
UID:10001209-1775174400-1775519999@pmthetemple.edu
SUMMARY:SPRING BREAK – CLOSED
DESCRIPTION:
URL:https://pmthetemple.edu/event/spring-break-closed-2/
CATEGORIES:Annapolis,Closings,Frederick
END:VEVENT
BEGIN:VEVENT
DTSTART;TZID=America/New_York:20260420T093000
DTEND;TZID=America/New_York:20260420T113000
DTSTAMP:20260422T083513
CREATED:20251104T181936Z
LAST-MODIFIED:20251112T215153Z
UID:10001234-1776677400-1776684600@pmthetemple.edu
SUMMARY:ABCD of Hair Color
DESCRIPTION:This is an on-site/in-person\, two hour\, continuing education course hosted by The TEMPLE Frederick. Register below.
URL:https://pmthetemple.edu/event/frederick-abcd-of-hair-color-04-20-26/
LOCATION:TEMPLE Frederick CE\, 22 West Church Street\, Frederick\, MD\, 21701\, United States
CATEGORIES:Continuing Education,Frederick
ATTACH;FMTTYPE=image/jpeg:https://pmthetemple.edu/wp-content/uploads/color-placeholder.jpg
ORGANIZER;CN="TEMPLE Frederick CE":MAILTO:FredCE@pmthetemple.com
END:VEVENT
BEGIN:VEVENT
DTSTART;TZID=America/New_York:20260420T123000
DTEND;TZID=America/New_York:20260420T133000
DTSTAMP:20260422T083513
CREATED:20251104T182047Z
LAST-MODIFIED:20251112T215156Z
UID:10001235-1776688200-1776691800@pmthetemple.edu
SUMMARY:Hair Structure
DESCRIPTION:This is an on-site/in-person\, one hour\, continuing education course hosted by The TEMPLE Frederick. Register below.
URL:https://pmthetemple.edu/event/frederick-hair-structure-04-20-26/
LOCATION:TEMPLE Frederick CE\, 22 West Church Street\, Frederick\, MD\, 21701\, United States
CATEGORIES:Continuing Education,Frederick
ATTACH;FMTTYPE=image/jpeg:https://pmthetemple.edu/wp-content/uploads/AdobeStock_211642298.jpg
ORGANIZER;CN="TEMPLE Frederick CE":MAILTO:FredCE@pmthetemple.com
END:VEVENT
BEGIN:VEVENT
DTSTART;TZID=America/New_York:20260429T093000
DTEND;TZID=America/New_York:20260429T113000
DTSTAMP:20260422T083513
CREATED:20251104T183848Z
LAST-MODIFIED:20251112T215200Z
UID:10001243-1777455000-1777462200@pmthetemple.edu
SUMMARY:ABCD of Hair Color
DESCRIPTION:This is a virtual\, two hours\, continuing education course hosted by The TEMPLE Annapolis on Zoom*. Register below.
URL:https://pmthetemple.edu/event/annapolis-abcd-of-hair-color-04-29-26/
CATEGORIES:Annapolis,Continuing Education
ATTACH;FMTTYPE=image/jpeg:https://pmthetemple.edu/wp-content/uploads/color-placeholder.jpg
ORGANIZER;CN="TEMPLE Annapolis CE":MAILTO:AnnapCE@templeannapolis.com
END:VEVENT
BEGIN:VEVENT
DTSTART;TZID=America/New_York:20260504T093000
DTEND;TZID=America/New_York:20260504T113000
DTSTAMP:20260422T083513
CREATED:20260319T162902Z
LAST-MODIFIED:20260319T165936Z
UID:10001246-1777887000-1777894200@pmthetemple.edu
SUMMARY:Relaxer Theory
DESCRIPTION:This is an on-site/in-person\, two hour\, continuing education course hosted by The TEMPLE Annapolis. Register below.
URL:https://pmthetemple.edu/event/relaxer-theory-05-04-2026/
CATEGORIES:Annapolis,Continuing Education
ATTACH;FMTTYPE=image/jpeg:https://pmthetemple.edu/wp-content/uploads/AdobeStock_423491106.jpg
ORGANIZER;CN="TEMPLE Annapolis CE":MAILTO:AnnapCE@templeannapolis.com
END:VEVENT
BEGIN:VEVENT
DTSTART;TZID=America/New_York:20260504T123000
DTEND;TZID=America/New_York:20260504T143000
DTSTAMP:20260422T083513
CREATED:20260319T163218Z
LAST-MODIFIED:20260319T163218Z
UID:10001247-1777897800-1777905000@pmthetemple.edu
SUMMARY:ABCD of Hair Color
DESCRIPTION:This is an on-site/in-person\, two hours\, continuing education course hosted by The TEMPLE Annapolis. Register below.
URL:https://pmthetemple.edu/event/abcd-of-hair-color-05-04-2026/
CATEGORIES:Annapolis,Continuing Education
ATTACH;FMTTYPE=image/jpeg:https://pmthetemple.edu/wp-content/uploads/color-placeholder.jpg
ORGANIZER;CN="TEMPLE Annapolis CE":MAILTO:AnnapCE@templeannapolis.com
END:VEVENT
BEGIN:VEVENT
DTSTART;TZID=America/New_York:20260511T093000
DTEND;TZID=America/New_York:20260511T113000
DTSTAMP:20260422T083513
CREATED:20260319T172954Z
LAST-MODIFIED:20260319T172954Z
UID:10001253-1778491800-1778499000@pmthetemple.edu
SUMMARY:ABCD of Hair Color
DESCRIPTION:This is an on-site/in-person\, two hour\, continuing education course hosted by The TEMPLE Frederick. Register below.
URL:https://pmthetemple.edu/event/abcd-of-hair-color-05-11-2026/
CATEGORIES:Continuing Education,Frederick
ATTACH;FMTTYPE=image/jpeg:https://pmthetemple.edu/wp-content/uploads/color-placeholder.jpg
ORGANIZER;CN="TEMPLE Frederick CE":MAILTO:FredCE@pmthetemple.com
END:VEVENT
BEGIN:VEVENT
DTSTART;TZID=America/New_York:20260511T123000
DTEND;TZID=America/New_York:20260511T143000
DTSTAMP:20260422T083513
CREATED:20260319T173047Z
LAST-MODIFIED:20260319T174311Z
UID:10001254-1778502600-1778509800@pmthetemple.edu
SUMMARY:Shampoo Service
DESCRIPTION:This is an on-site/in-person\, two-hour\, continuing education course hosted by The TEMPLE Frederick. Register below.
URL:https://pmthetemple.edu/event/shampoo-service-05-11-2026/
CATEGORIES:Continuing Education,Frederick
ATTACH;FMTTYPE=image/jpeg:https://pmthetemple.edu/wp-content/uploads/guest-services-bg.jpg
ORGANIZER;CN="TEMPLE Frederick CE":MAILTO:FredCE@pmthetemple.com
END:VEVENT
BEGIN:VEVENT
DTSTART;VALUE=DATE:20260522
DTEND;VALUE=DATE:20260523
DTSTAMP:20260422T083513
CREATED:20251103T162435Z
LAST-MODIFIED:20251103T162435Z
UID:10001210-1779408000-1779494399@pmthetemple.edu
SUMMARY:CLOSED
DESCRIPTION:
URL:https://pmthetemple.edu/event/closed-3/
CATEGORIES:Annapolis,Closings,Frederick
END:VEVENT
BEGIN:VEVENT
DTSTART;VALUE=DATE:20260525
DTEND;VALUE=DATE:20260526
DTSTAMP:20260422T083513
CREATED:20251103T162457Z
LAST-MODIFIED:20251103T162457Z
UID:10001211-1779667200-1779753599@pmthetemple.edu
SUMMARY:MEMORIAL DAY – CLOSED
DESCRIPTION:
URL:https://pmthetemple.edu/event/memorial-day-closed/
CATEGORIES:Annapolis,Closings,Frederick
END:VEVENT
BEGIN:VEVENT
DTSTART;TZID=America/New_York:20260526T170000
DTEND;TZID=America/New_York:20260526T180000
DTSTAMP:20260422T083513
CREATED:20260319T173415Z
LAST-MODIFIED:20260319T174517Z
UID:10001255-1779814800-1779818400@pmthetemple.edu
SUMMARY:Elegant Updo
DESCRIPTION:This is a virtual\, one hour\, continuing education course hosted by The TEMPLE Frederick on Zoom*. Register below.
URL:https://pmthetemple.edu/event/elegant-updo-05-26-2026/
CATEGORIES:Continuing Education,Frederick
ATTACH;FMTTYPE=image/jpeg:https://pmthetemple.edu/wp-content/uploads/AdobeStock_194166275.jpg
ORGANIZER;CN="TEMPLE Frederick CE":MAILTO:FredCE@pmthetemple.com
END:VEVENT
BEGIN:VEVENT
DTSTART;TZID=America/New_York:20260527T090000
DTEND;TZID=America/New_York:20260527T100000
DTSTAMP:20260422T083513
CREATED:20260319T164830Z
LAST-MODIFIED:20260319T165836Z
UID:10001248-1779872400-1779876000@pmthetemple.edu
SUMMARY:Hair Structure
DESCRIPTION:This is a virtual\, one hour\, continuing education course hosted by The TEMPLE Annapolis on Zoom*. Register below.
URL:https://pmthetemple.edu/event/hair-structure-05-27-2026/
CATEGORIES:Annapolis,Continuing Education
ATTACH;FMTTYPE=image/jpeg:https://pmthetemple.edu/wp-content/uploads/AdobeStock_211642298.jpg
ORGANIZER;CN="TEMPLE Annapolis CE":MAILTO:AnnapCE@templeannapolis.com
END:VEVENT
BEGIN:VEVENT
DTSTART;TZID=America/New_York:20260601T093000
DTEND;TZID=America/New_York:20260601T113000
DTSTAMP:20260422T083513
CREATED:20260319T173614Z
LAST-MODIFIED:20260319T174643Z
UID:10001256-1780306200-1780313400@pmthetemple.edu
SUMMARY:Permanent Wave
DESCRIPTION:This is an on-site/in-person\, two hour\, continuing education course hosted by The TEMPLE Frederick. Register below.
URL:https://pmthetemple.edu/event/permanent-wave-06-01-2026/
CATEGORIES:Continuing Education,Frederick
ATTACH;FMTTYPE=image/jpeg:https://pmthetemple.edu/wp-content/uploads/AdobeStock_36456387.jpg
ORGANIZER;CN="TEMPLE Frederick CE":MAILTO:FredCE@pmthetemple.com
END:VEVENT
BEGIN:VEVENT
DTSTART;TZID=America/New_York:20260601T123000
DTEND;TZID=America/New_York:20260601T133000
DTSTAMP:20260422T083513
CREATED:20260319T173837Z
LAST-MODIFIED:20260319T173837Z
UID:10001257-1780317000-1780320600@pmthetemple.edu
SUMMARY:Hair Structure
DESCRIPTION:This is an on-site/in-person\, one hour\, continuing education course hosted by The TEMPLE Frederick. Register below.
URL:https://pmthetemple.edu/event/hair-structure-06-01-2026/
CATEGORIES:Continuing Education,Frederick
ATTACH;FMTTYPE=image/jpeg:https://pmthetemple.edu/wp-content/uploads/AdobeStock_211642298.jpg
ORGANIZER;CN="TEMPLE Frederick CE":MAILTO:FredCE@pmthetemple.com
END:VEVENT
BEGIN:VEVENT
DTSTART;TZID=America/New_York:20260608T093000
DTEND;TZID=America/New_York:20260608T113000
DTSTAMP:20260422T083513
CREATED:20260319T165131Z
LAST-MODIFIED:20260319T165245Z
UID:10001249-1780911000-1780918200@pmthetemple.edu
SUMMARY:Permanent Wave
DESCRIPTION:This is an on-size/in-person\, two hours\, continuing education course hosted by The TEMPLE Annapolis. Register below.
URL:https://pmthetemple.edu/event/permanent-wave-06-08-2026/
CATEGORIES:Annapolis,Continuing Education
ATTACH;FMTTYPE=image/jpeg:https://pmthetemple.edu/wp-content/uploads/AdobeStock_36456387.jpg
ORGANIZER;CN="TEMPLE Annapolis CE":MAILTO:AnnapCE@templeannapolis.com
END:VEVENT
BEGIN:VEVENT
DTSTART;TZID=America/New_York:20260608T123000
DTEND;TZID=America/New_York:20260608T143000
DTSTAMP:20260422T083513
CREATED:20260319T165613Z
LAST-MODIFIED:20260319T165613Z
UID:10001251-1780921800-1780929000@pmthetemple.edu
SUMMARY:Shampoo Service
DESCRIPTION:This is an on-site/in-person\, two hours\, continuing education course hosted by The TEMPLE Annapolis. Register below.
URL:https://pmthetemple.edu/event/shampoo-service-06-08-2026/
CATEGORIES:Annapolis,Continuing Education
ATTACH;FMTTYPE=image/jpeg:https://pmthetemple.edu/wp-content/uploads/guest-services-bg.jpg
ORGANIZER;CN="TEMPLE Annapolis CE":MAILTO:AnnapCE@templeannapolis.com
END:VEVENT
BEGIN:VEVENT
DTSTART;VALUE=DATE:20260619
DTEND;VALUE=DATE:20260620
DTSTAMP:20260422T083513
CREATED:20251103T162519Z
LAST-MODIFIED:20251103T162519Z
UID:10001212-1781827200-1781913599@pmthetemple.edu
SUMMARY:OBSERVANCE OF JUNETEENTH – CLOSED
DESCRIPTION:
URL:https://pmthetemple.edu/event/observance-of-juneteenth-closed/
CATEGORIES:Annapolis,Closings,Frederick
END:VEVENT
BEGIN:VEVENT
DTSTART;TZID=America/New_York:20260622T093000
DTEND;TZID=America/New_York:20260622T113000
DTSTAMP:20260422T083513
CREATED:20260319T174013Z
LAST-MODIFIED:20260319T174013Z
UID:10001258-1782120600-1782127800@pmthetemple.edu
SUMMARY:ABCD of Hair Color
DESCRIPTION:This is an on-site/in-person\, two hour\, continuing education course hosted by The TEMPLE Frederick. Register below.
URL:https://pmthetemple.edu/event/abcd-of-hair-color-06-22-2026/
CATEGORIES:Continuing Education,Frederick
ATTACH;FMTTYPE=image/jpeg:https://pmthetemple.edu/wp-content/uploads/color-placeholder.jpg
ORGANIZER;CN="TEMPLE Frederick CE":MAILTO:FredCE@pmthetemple.com
END:VEVENT
BEGIN:VEVENT
DTSTART;TZID=America/New_York:20260622T123000
DTEND;TZID=America/New_York:20260622T143000
DTSTAMP:20260422T083513
CREATED:20260319T174103Z
LAST-MODIFIED:20260319T174847Z
UID:10001259-1782131400-1782138600@pmthetemple.edu
SUMMARY:Shampoo Service
DESCRIPTION:This is an on-site/in-person\, two-hour\, continuing education course hosted by The TEMPLE Frederick. Register below.
URL:https://pmthetemple.edu/event/shampoo-service-06-22-2026/
CATEGORIES:Continuing Education,Frederick
ATTACH;FMTTYPE=image/jpeg:https://pmthetemple.edu/wp-content/uploads/guest-services-bg.jpg
ORGANIZER;CN="TEMPLE Frederick CE":MAILTO:FredCE@pmthetemple.com
END:VEVENT
BEGIN:VEVENT
DTSTART;TZID=America/New_York:20260624T090000
DTEND;TZID=America/New_York:20260624T100000
DTSTAMP:20260422T083513
CREATED:20260319T165743Z
LAST-MODIFIED:20260319T171439Z
UID:10001252-1782291600-1782295200@pmthetemple.edu
SUMMARY:Hair Structure
DESCRIPTION:This is a virtual\, one hour\, continuing education course hosted by The TEMPLE Annapolis on Zoom*. Register below.
URL:https://pmthetemple.edu/event/hair-structure-06-24-2026/
CATEGORIES:Annapolis,Continuing Education
ATTACH;FMTTYPE=image/jpeg:https://pmthetemple.edu/wp-content/uploads/AdobeStock_211642298.jpg
ORGANIZER;CN="TEMPLE Annapolis CE":MAILTO:AnnapCE@templeannapolis.com
END:VEVENT
BEGIN:VEVENT
DTSTART;VALUE=DATE:20260703
DTEND;VALUE=DATE:20260704
DTSTAMP:20260422T083513
CREATED:20251103T162543Z
LAST-MODIFIED:20251103T162543Z
UID:10001213-1783036800-1783123199@pmthetemple.edu
SUMMARY:SUMMER BREAK – CLOSED
DESCRIPTION:
URL:https://pmthetemple.edu/event/summer-break-closed/
CATEGORIES:Annapolis,Closings,Frederick
END:VEVENT
BEGIN:VEVENT
DTSTART;VALUE=DATE:20260812
DTEND;VALUE=DATE:20260813
DTSTAMP:20260422T083513
CREATED:20251103T163021Z
LAST-MODIFIED:20251103T163021Z
UID:10001222-1786492800-1786579199@pmthetemple.edu
SUMMARY:TEAM TRAINING – NO CLASSES FOR FUTURE PROFESSIONALS (WED)
DESCRIPTION:
URL:https://pmthetemple.edu/event/team-training-no-classes-for-future-professionals-wed-3/
CATEGORIES:Frederick,Team Training
END:VEVENT
BEGIN:VEVENT
DTSTART;VALUE=DATE:20260813
DTEND;VALUE=DATE:20260814
DTSTAMP:20260422T083513
CREATED:20251103T162904Z
LAST-MODIFIED:20251103T162904Z
UID:10001219-1786579200-1786665599@pmthetemple.edu
SUMMARY:TEAM TRAINING – NO CLASSES FOR FUTURE PROFESSIONALS (THURSDAY)
DESCRIPTION:
URL:https://pmthetemple.edu/event/team-training-no-classes-for-future-professionals-thursday/
CATEGORIES:Annapolis,Team Training
END:VEVENT
BEGIN:VEVENT
DTSTART;VALUE=DATE:20260907
DTEND;VALUE=DATE:20260908
DTSTAMP:20260422T083513
CREATED:20251103T162602Z
LAST-MODIFIED:20251103T162602Z
UID:10001214-1788739200-1788825599@pmthetemple.edu
SUMMARY:LABOR DAY – CLOSED
DESCRIPTION:
URL:https://pmthetemple.edu/event/labor-day-closed/
CATEGORIES:Annapolis,Closings,Frederick
END:VEVENT
END:VCALENDAR