BEGIN:VCALENDAR
VERSION:2.0
PRODID:-//THE TEMPLE a Paul Mitchell Partner School | Frederick | Annapolis - ECPv6.15.19//NONSGML v1.0//EN
CALSCALE:GREGORIAN
METHOD:PUBLISH
X-WR-CALNAME:THE TEMPLE a Paul Mitchell Partner School | Frederick | Annapolis
X-ORIGINAL-URL:https://pmthetemple.edu
X-WR-CALDESC:Events for THE TEMPLE a Paul Mitchell Partner School | Frederick | Annapolis
REFRESH-INTERVAL;VALUE=DURATION:PT1H
X-Robots-Tag:noindex
X-PUBLISHED-TTL:PT1H
BEGIN:VTIMEZONE
TZID:America/New_York
BEGIN:DAYLIGHT
TZOFFSETFROM:-0500
TZOFFSETTO:-0400
TZNAME:EDT
DTSTART:20230312T070000
END:DAYLIGHT
BEGIN:STANDARD
TZOFFSETFROM:-0400
TZOFFSETTO:-0500
TZNAME:EST
DTSTART:20231105T060000
END:STANDARD
BEGIN:DAYLIGHT
TZOFFSETFROM:-0500
TZOFFSETTO:-0400
TZNAME:EDT
DTSTART:20240310T070000
END:DAYLIGHT
BEGIN:STANDARD
TZOFFSETFROM:-0400
TZOFFSETTO:-0500
TZNAME:EST
DTSTART:20241103T060000
END:STANDARD
BEGIN:DAYLIGHT
TZOFFSETFROM:-0500
TZOFFSETTO:-0400
TZNAME:EDT
DTSTART:20250309T070000
END:DAYLIGHT
BEGIN:STANDARD
TZOFFSETFROM:-0400
TZOFFSETTO:-0500
TZNAME:EST
DTSTART:20251102T060000
END:STANDARD
BEGIN:DAYLIGHT
TZOFFSETFROM:-0500
TZOFFSETTO:-0400
TZNAME:EDT
DTSTART:20260308T070000
END:DAYLIGHT
BEGIN:STANDARD
TZOFFSETFROM:-0400
TZOFFSETTO:-0500
TZNAME:EST
DTSTART:20261101T060000
END:STANDARD
END:VTIMEZONE
BEGIN:VEVENT
DTSTART;VALUE=DATE:20250612
DTEND;VALUE=DATE:20250613
DTSTAMP:20260422T112015
CREATED:20241220T203232Z
LAST-MODIFIED:20241220T203232Z
UID:10001149-1749686400-1749772799@pmthetemple.edu
SUMMARY:TEAM TRAINING * NO CLASSES FOR FUTURE PROFESSIONALS
DESCRIPTION:
URL:https://pmthetemple.edu/event/team-training-no-classes-for-future-professionals-27/
CATEGORIES:Frederick,Team Training
END:VEVENT
BEGIN:VEVENT
DTSTART;VALUE=DATE:20250611
DTEND;VALUE=DATE:20250612
DTSTAMP:20260422T112015
CREATED:20250416T180055Z
LAST-MODIFIED:20250416T180055Z
UID:10001172-1749600000-1749686399@pmthetemple.edu
SUMMARY:Temple Annapolis Townhall Training
DESCRIPTION:Closed to Public and Future Professionals
URL:https://pmthetemple.edu/event/temple-annapolis-townhall-training/
CATEGORIES:Annapolis,Events,Team Training
END:VEVENT
BEGIN:VEVENT
DTSTART;TZID=America/New_York:20250605T170000
DTEND;TZID=America/New_York:20250605T200000
DTSTAMP:20260422T112015
CREATED:20250416T180012Z
LAST-MODIFIED:20250416T180012Z
UID:10001171-1749142800-1749153600@pmthetemple.edu
SUMMARY:Fashion for a Cause
DESCRIPTION:Temple Annapolis Fundraiser Fashion Show Event with Hospice of the Chesapeake
URL:https://pmthetemple.edu/event/fashion-for-a-cause/
CATEGORIES:Annapolis,Events
END:VEVENT
BEGIN:VEVENT
DTSTART;VALUE=DATE:20250523
DTEND;VALUE=DATE:20250527
DTSTAMP:20260422T112015
CREATED:20250416T175928Z
LAST-MODIFIED:20250506T131518Z
UID:10001170-1747958400-1748303999@pmthetemple.edu
SUMMARY:Closed – Memorial Day Weekend
DESCRIPTION:
URL:https://pmthetemple.edu/event/closed-2/
CATEGORIES:Annapolis,Closings,Events,Frederick
END:VEVENT
BEGIN:VEVENT
DTSTART;VALUE=DATE:20250519
DTEND;VALUE=DATE:20250520
DTSTAMP:20260422T112015
CREATED:20250416T175835Z
LAST-MODIFIED:20250416T175835Z
UID:10001169-1747612800-1747699199@pmthetemple.edu
SUMMARY:Temple Annapolis Spring Graduation
DESCRIPTION:Doubletree Hilton Annapolis
URL:https://pmthetemple.edu/event/temple-annapolis-spring-graduation/
CATEGORIES:Annapolis,Events,Graduation
END:VEVENT
BEGIN:VEVENT
DTSTART;VALUE=DATE:20250513
DTEND;VALUE=DATE:20250514
DTSTAMP:20260422T112015
CREATED:20250416T175757Z
LAST-MODIFIED:20250416T175757Z
UID:10001168-1747094400-1747180799@pmthetemple.edu
SUMMARY:JPMS Quarterly Updates and New Products Day & Night Programs
DESCRIPTION:
URL:https://pmthetemple.edu/event/jpms-quarterly-updates-and-new-products-day-night-programs/
CATEGORIES:Annapolis,Events,Frederick
END:VEVENT
BEGIN:VEVENT
DTSTART;TZID=America/New_York:20250512T180000
DTEND;TZID=America/New_York:20250512T200000
DTSTAMP:20260422T112015
CREATED:20250416T175722Z
LAST-MODIFIED:20250416T175722Z
UID:10001167-1747072800-1747080000@pmthetemple.edu
SUMMARY:Temple Frederick Spring Graduation
DESCRIPTION:Temple Frederick Goddess Room
URL:https://pmthetemple.edu/event/temple-frederick-spring-graduation/
CATEGORIES:Events,Frederick,Graduation
END:VEVENT
BEGIN:VEVENT
DTSTART;TZID=America/New_York:20250508T170000
DTEND;TZID=America/New_York:20250508T183000
DTSTAMP:20260422T112015
CREATED:20250416T175624Z
LAST-MODIFIED:20250416T175624Z
UID:10001166-1746723600-1746729000@pmthetemple.edu
SUMMARY:Temple Frederick - Open House
DESCRIPTION:
URL:https://pmthetemple.edu/event/temple-frederick-open-house/
CATEGORIES:Events,Frederick
END:VEVENT
BEGIN:VEVENT
DTSTART;TZID=America/New_York:20250506T170000
DTEND;TZID=America/New_York:20250506T183000
DTSTAMP:20260422T112015
CREATED:20250416T175542Z
LAST-MODIFIED:20250416T175542Z
UID:10001165-1746550800-1746556200@pmthetemple.edu
SUMMARY:Temple Annapolis - Open House
DESCRIPTION:
URL:https://pmthetemple.edu/event/temple-annapolis-open-house/
CATEGORIES:Annapolis,Events
END:VEVENT
BEGIN:VEVENT
DTSTART;VALUE=DATE:20250504
DTEND;VALUE=DATE:20250506
DTSTAMP:20260422T112015
CREATED:20250416T175506Z
LAST-MODIFIED:20250416T175506Z
UID:10001164-1746316800-1746489599@pmthetemple.edu
SUMMARY:ICES Philadephia Skin Care Show Field Trip
DESCRIPTION:
URL:https://pmthetemple.edu/event/ices-philadephia-skin-care-show-field-trip/
CATEGORIES:Annapolis,Events,Frederick
END:VEVENT
BEGIN:VEVENT
DTSTART;VALUE=DATE:20250501
DTEND;VALUE=DATE:20250502
DTSTAMP:20260422T112015
CREATED:20250416T175432Z
LAST-MODIFIED:20250416T175432Z
UID:10001163-1746057600-1746143999@pmthetemple.edu
SUMMARY:Jennifer Our
DESCRIPTION:
URL:https://pmthetemple.edu/event/jennifer-our/
CATEGORIES:Events,Guest Artists
END:VEVENT
BEGIN:VEVENT
DTSTART;VALUE=DATE:20250501
DTEND;VALUE=DATE:20250502
DTSTAMP:20260422T112015
CREATED:20250416T175345Z
LAST-MODIFIED:20250416T175345Z
UID:10001162-1746057600-1746143999@pmthetemple.edu
SUMMARY:Senior Career Fair - Kent Island
DESCRIPTION:
URL:https://pmthetemple.edu/event/senior-career-fair-kent-island/
CATEGORIES:Annapolis,Events
END:VEVENT
BEGIN:VEVENT
DTSTART;VALUE=DATE:20250429
DTEND;VALUE=DATE:20250430
DTSTAMP:20260422T112015
CREATED:20250416T175314Z
LAST-MODIFIED:20250416T175314Z
UID:10001161-1745884800-1745971199@pmthetemple.edu
SUMMARY:Dermalogica Field Trip to Learning Loft
DESCRIPTION:
URL:https://pmthetemple.edu/event/dermalogica-field-trip-to-learning-loft/
CATEGORIES:Annapolis,Events,Frederick
END:VEVENT
BEGIN:VEVENT
DTSTART;TZID=America/New_York:20250428T170000
DTEND;TZID=America/New_York:20250428T190000
DTSTAMP:20260422T112015
CREATED:20250416T175238Z
LAST-MODIFIED:20250416T175238Z
UID:10001160-1745859600-1745866800@pmthetemple.edu
SUMMARY:Presley Poe Guest Artist - Frederick Night Program
DESCRIPTION:
URL:https://pmthetemple.edu/event/presley-poe-guest-artist-frederick-night-program/
CATEGORIES:Events,Frederick,Guest Artists
END:VEVENT
BEGIN:VEVENT
DTSTART;TZID=America/New_York:20250428T143000
DTEND;TZID=America/New_York:20250428T163000
DTSTAMP:20260422T112015
CREATED:20250416T175204Z
LAST-MODIFIED:20250416T175204Z
UID:10001159-1745850600-1745857800@pmthetemple.edu
SUMMARY:Presley Poe Guest Artist - Frederick Day Program
DESCRIPTION:
URL:https://pmthetemple.edu/event/presley-poe-guest-artist-frederick-day-program/
CATEGORIES:Events,Frederick,Guest Artists
END:VEVENT
BEGIN:VEVENT
DTSTART;VALUE=DATE:20250426
DTEND;VALUE=DATE:20250428
DTSTAMP:20260422T112015
CREATED:20250416T175059Z
LAST-MODIFIED:20250416T175059Z
UID:10001158-1745625600-1745798399@pmthetemple.edu
SUMMARY:Presley Poe & Friends Event
DESCRIPTION:For more info visit: https://www.presleypoeandfriends.com/
URL:https://pmthetemple.edu/event/presley-poe-friends-event/
CATEGORIES:Frederick
END:VEVENT
BEGIN:VEVENT
DTSTART;VALUE=DATE:20250424
DTEND;VALUE=DATE:20250425
DTSTAMP:20260422T112015
CREATED:20250416T174853Z
LAST-MODIFIED:20250416T174853Z
UID:10001157-1745452800-1745539199@pmthetemple.edu
SUMMARY:Hammond High School Career Event
DESCRIPTION:
URL:https://pmthetemple.edu/event/hammond-high-school-career-event/
CATEGORIES:Annapolis
END:VEVENT
BEGIN:VEVENT
DTSTART;VALUE=DATE:20250418
DTEND;VALUE=DATE:20250422
DTSTAMP:20260422T112015
CREATED:20241220T203117Z
LAST-MODIFIED:20241220T203117Z
UID:10001146-1744934400-1745279999@pmthetemple.edu
SUMMARY:SPRING BREAK CLOSED
DESCRIPTION:
URL:https://pmthetemple.edu/event/spring-break-closed/
CATEGORIES:Annapolis,Closings,Frederick
END:VEVENT
BEGIN:VEVENT
DTSTART;VALUE=DATE:20250320
DTEND;VALUE=DATE:20250321
DTSTAMP:20260422T112015
CREATED:20241220T203054Z
LAST-MODIFIED:20241220T203054Z
UID:10001145-1742428800-1742515199@pmthetemple.edu
SUMMARY:TEAM TRAINING * NO CLASSES FOR FUTURE PROFESSIONALS
DESCRIPTION:
URL:https://pmthetemple.edu/event/team-training-no-classes-for-future-professionals-25/
CATEGORIES:Annapolis,Team Training
END:VEVENT
BEGIN:VEVENT
DTSTART;VALUE=DATE:20250319
DTEND;VALUE=DATE:20250320
DTSTAMP:20260422T112015
CREATED:20241220T203031Z
LAST-MODIFIED:20241220T203031Z
UID:10001144-1742342400-1742428799@pmthetemple.edu
SUMMARY:TEAM TRAINING * NO CLASSES FOR FUTURE PROFESSIONALS
DESCRIPTION:
URL:https://pmthetemple.edu/event/team-training-no-classes-for-future-professionals-22/
CATEGORIES:Frederick,Team Training
END:VEVENT
BEGIN:VEVENT
DTSTART;VALUE=DATE:20250120
DTEND;VALUE=DATE:20250121
DTSTAMP:20260422T112015
CREATED:20241220T203007Z
LAST-MODIFIED:20241220T203007Z
UID:10001143-1737331200-1737417599@pmthetemple.edu
SUMMARY:MARTIN LUTHER KING JR. DAY – CLOSED
DESCRIPTION:
URL:https://pmthetemple.edu/event/martin-luther-king-jr-day-closed/
CATEGORIES:Annapolis,Closings,Frederick
END:VEVENT
BEGIN:VEVENT
DTSTART;VALUE=DATE:20241231
DTEND;VALUE=DATE:20250102
DTSTAMP:20260422T112015
CREATED:20231221T190550Z
LAST-MODIFIED:20241204T173901Z
UID:10001112-1735603200-1735775999@pmthetemple.edu
SUMMARY:CLOSED: NEW YEARS
DESCRIPTION:
URL:https://pmthetemple.edu/event/closed-new-years-eve/
CATEGORIES:Annapolis,Closings,Frederick
END:VEVENT
BEGIN:VEVENT
DTSTART;VALUE=DATE:20241224
DTEND;VALUE=DATE:20241228
DTSTAMP:20260422T112015
CREATED:20231221T190530Z
LAST-MODIFIED:20241204T173827Z
UID:10001111-1734998400-1735343999@pmthetemple.edu
SUMMARY:CLOSED: WINTER BREAK
DESCRIPTION:
URL:https://pmthetemple.edu/event/closed-winter-break-4/
CATEGORIES:Annapolis,Closings,Frederick
END:VEVENT
BEGIN:VEVENT
DTSTART;VALUE=DATE:20241129
DTEND;VALUE=DATE:20241201
DTSTAMP:20260422T112015
CREATED:20231221T190503Z
LAST-MODIFIED:20231221T191305Z
UID:10001110-1732838400-1733011199@pmthetemple.edu
SUMMARY:CLOSED: FALL BREAK
DESCRIPTION:
URL:https://pmthetemple.edu/event/closed-fall-break-3/
CATEGORIES:Annapolis,Closings,Frederick
END:VEVENT
BEGIN:VEVENT
DTSTART;VALUE=DATE:20241119
DTEND;VALUE=DATE:20241120
DTSTAMP:20260422T112015
CREATED:20241105T183553Z
LAST-MODIFIED:20241105T183553Z
UID:10001135-1731974400-1732060799@pmthetemple.edu
SUMMARY:Paul Mitchell 4th Quarter New Updates\, Products\, etc
DESCRIPTION:2:30pm Day Program & 5pm Night Program
URL:https://pmthetemple.edu/event/paul-mitchell-4th-quarter-new-updates-products-etc/
CATEGORIES:Frederick
END:VEVENT
BEGIN:VEVENT
DTSTART;TZID=America/New_York:20241113T103000
DTEND;TZID=America/New_York:20241113T120000
DTSTAMP:20260422T112015
CREATED:20241105T184114Z
LAST-MODIFIED:20241105T184114Z
UID:10001142-1731493800-1731499200@pmthetemple.edu
SUMMARY:LaPlata High School Career Event
DESCRIPTION:
URL:https://pmthetemple.edu/event/laplata-high-school-career-event/
CATEGORIES:Annapolis
END:VEVENT
BEGIN:VEVENT
DTSTART;TZID=America/New_York:20241111T180000
DTEND;TZID=America/New_York:20241111T200000
DTSTAMP:20260422T112015
CREATED:20241105T184054Z
LAST-MODIFIED:20241105T184054Z
UID:10001141-1731348000-1731355200@pmthetemple.edu
SUMMARY:Temple Annapolis Fall Graduation - Double Tree Hilton
DESCRIPTION:
URL:https://pmthetemple.edu/event/temple-annapolis-fall-graduation-double-tree-hilton/
CATEGORIES:Annapolis,Graduation
END:VEVENT
BEGIN:VEVENT
DTSTART;TZID=America/New_York:20241106T103000
DTEND;TZID=America/New_York:20241106T120000
DTSTAMP:20260422T112015
CREATED:20241105T183514Z
LAST-MODIFIED:20241105T183514Z
UID:10001134-1730889000-1730894400@pmthetemple.edu
SUMMARY:Robert Hughes Hairdresser Strong Guest Artist
DESCRIPTION:
URL:https://pmthetemple.edu/event/robert-hughes-hairdresser-strong-guest-artist/
CATEGORIES:Frederick,Guest Artists
END:VEVENT
BEGIN:VEVENT
DTSTART;TZID=America/New_York:20241104T180000
DTEND;TZID=America/New_York:20241104T200000
DTSTAMP:20260422T112015
CREATED:20241105T183442Z
LAST-MODIFIED:20241105T183442Z
UID:10001133-1730743200-1730750400@pmthetemple.edu
SUMMARY:Temple Fall Graduation - Goddess Room
DESCRIPTION:
URL:https://pmthetemple.edu/event/temple-fall-graduation-goddess-room/
CATEGORIES:Frederick,Graduation
END:VEVENT
BEGIN:VEVENT
DTSTART;VALUE=DATE:20241028
DTEND;VALUE=DATE:20241102
DTSTAMP:20260422T112015
CREATED:20241105T183356Z
LAST-MODIFIED:20241105T183356Z
UID:10001132-1730073600-1730505599@pmthetemple.edu
SUMMARY:Spirit Week
DESCRIPTION:
URL:https://pmthetemple.edu/event/spirit-week/
CATEGORIES:Frederick
END:VEVENT
END:VCALENDAR