BEGIN:VCALENDAR
VERSION:2.0
PRODID:-//THE TEMPLE a Paul Mitchell Partner School | Frederick | Annapolis - ECPv6.15.19//NONSGML v1.0//EN
CALSCALE:GREGORIAN
METHOD:PUBLISH
X-ORIGINAL-URL:https://pmthetemple.edu
X-WR-CALDESC:Events for THE TEMPLE a Paul Mitchell Partner School | Frederick | Annapolis
REFRESH-INTERVAL;VALUE=DURATION:PT1H
X-Robots-Tag:noindex
X-PUBLISHED-TTL:PT1H
BEGIN:VTIMEZONE
TZID:America/New_York
BEGIN:DAYLIGHT
TZOFFSETFROM:-0500
TZOFFSETTO:-0400
TZNAME:EDT
DTSTART:20240310T070000
END:DAYLIGHT
BEGIN:STANDARD
TZOFFSETFROM:-0400
TZOFFSETTO:-0500
TZNAME:EST
DTSTART:20241103T060000
END:STANDARD
BEGIN:DAYLIGHT
TZOFFSETFROM:-0500
TZOFFSETTO:-0400
TZNAME:EDT
DTSTART:20250309T070000
END:DAYLIGHT
BEGIN:STANDARD
TZOFFSETFROM:-0400
TZOFFSETTO:-0500
TZNAME:EST
DTSTART:20251102T060000
END:STANDARD
BEGIN:DAYLIGHT
TZOFFSETFROM:-0500
TZOFFSETTO:-0400
TZNAME:EDT
DTSTART:20260308T070000
END:DAYLIGHT
BEGIN:STANDARD
TZOFFSETFROM:-0400
TZOFFSETTO:-0500
TZNAME:EST
DTSTART:20261101T060000
END:STANDARD
END:VTIMEZONE
BEGIN:VEVENT
DTSTART;TZID=America/New_York:20251110T111500
DTEND;TZID=America/New_York:20251110T131500
DTSTAMP:20260422T070925
CREATED:20250822T152803Z
LAST-MODIFIED:20260319T172321Z
UID:10001197-1762773300-1762780500@pmthetemple.edu
SUMMARY:Relaxer Theory
DESCRIPTION:This is a virtual\, two hours\, continuing education course hosted by The TEMPLE Annapolis. Register below.
URL:https://pmthetemple.edu/event/annapolis-relaxer-theory-11-10-2025/
CATEGORIES:Annapolis,Continuing Education
ATTACH;FMTTYPE=image/jpeg:https://pmthetemple.edu/wp-content/uploads/AdobeStock_423491106.jpg
ORGANIZER;CN="TEMPLE Annapolis CE":MAILTO:AnnapCE@templeannapolis.com
END:VEVENT
BEGIN:VEVENT
DTSTART;VALUE=DATE:20251127
DTEND;VALUE=DATE:20251129
DTSTAMP:20260422T070925
CREATED:20250416T181100Z
LAST-MODIFIED:20250416T181100Z
UID:10001185-1764201600-1764374399@pmthetemple.edu
SUMMARY:Closed - Fall Break
DESCRIPTION:
URL:https://pmthetemple.edu/event/closed-fall-break-4/
CATEGORIES:Annapolis,Closings,Events,Frederick
END:VEVENT
END:VCALENDAR